BEGIN:VCALENDAR
VERSION:2.0
PRODID:-//Saint Paul&#039;s School - ECPv6.15.20//NONSGML v1.0//EN
CALSCALE:GREGORIAN
METHOD:PUBLISH
X-ORIGINAL-URL:https://www.stpauls.com
X-WR-CALDESC:Events for Saint Paul&#039;s School
REFRESH-INTERVAL;VALUE=DURATION:PT1H
X-Robots-Tag:noindex
X-PUBLISHED-TTL:PT1H
BEGIN:VTIMEZONE
TZID:America/Chicago
BEGIN:DAYLIGHT
TZOFFSETFROM:-0600
TZOFFSETTO:-0500
TZNAME:CDT
DTSTART:20250309T080000
END:DAYLIGHT
BEGIN:STANDARD
TZOFFSETFROM:-0500
TZOFFSETTO:-0600
TZNAME:CST
DTSTART:20251102T070000
END:STANDARD
BEGIN:DAYLIGHT
TZOFFSETFROM:-0600
TZOFFSETTO:-0500
TZNAME:CDT
DTSTART:20260308T080000
END:DAYLIGHT
BEGIN:STANDARD
TZOFFSETFROM:-0500
TZOFFSETTO:-0600
TZNAME:CST
DTSTART:20261101T070000
END:STANDARD
BEGIN:DAYLIGHT
TZOFFSETFROM:-0600
TZOFFSETTO:-0500
TZNAME:CDT
DTSTART:20270314T080000
END:DAYLIGHT
BEGIN:STANDARD
TZOFFSETFROM:-0500
TZOFFSETTO:-0600
TZNAME:CST
DTSTART:20271107T070000
END:STANDARD
END:VTIMEZONE
BEGIN:VEVENT
DTSTART;TZID=America/Chicago:20260819T173000
DTEND;TZID=America/Chicago:20260819T203000
DTSTAMP:20260425T094904
CREATED:20260210T010048Z
LAST-MODIFIED:20260425T071237Z
UID:26765-1787160600-1787171400@www.stpauls.com
SUMMARY:Football Scrimmage (H)
DESCRIPTION:vs. John Curtis @ 5:30 pm
URL:https://www.stpauls.com/event/football-scrimmage-h-2/
LOCATION:Saint Paul’s School\, 917 S Jahncke Ave\, Covington\, LA\, United States
END:VEVENT
BEGIN:VEVENT
DTSTART;VALUE=DATE:20260820
DTEND;VALUE=DATE:20260821
DTSTAMP:20260425T094904
CREATED:20260129T005827Z
LAST-MODIFIED:20260424T152737Z
UID:26643-1787184000-1787270399@www.stpauls.com
SUMMARY:March Through the Arch and Senior Events
DESCRIPTION:
URL:https://www.stpauls.com/event/march-through-the-arch/
END:VEVENT
BEGIN:VEVENT
DTSTART;VALUE=DATE:20260820
DTEND;VALUE=DATE:20260821
DTSTAMP:20260425T094904
CREATED:20260310T061302Z
LAST-MODIFIED:20260424T152737Z
UID:26942-1787184000-1787270399@www.stpauls.com
SUMMARY:MTA Breakfast
DESCRIPTION:
URL:https://www.stpauls.com/event/mta-breakfast/
LOCATION:Briggs Center; Saint Paul’s School\, 917 S Jahncke Ave\, Covington\, LA\, United States
END:VEVENT
BEGIN:VEVENT
DTSTART;VALUE=DATE:20260821
DTEND;VALUE=DATE:20260822
DTSTAMP:20260425T094904
CREATED:20260129T005827Z
LAST-MODIFIED:20260424T152737Z
UID:26642-1787270400-1787356799@www.stpauls.com
SUMMARY:Senior Ring Holiday
DESCRIPTION:
URL:https://www.stpauls.com/event/senior-ring-holiday-2/
END:VEVENT
BEGIN:VEVENT
DTSTART;TZID=America/Chicago:20260821T190000
DTEND;TZID=America/Chicago:20260821T200000
DTSTAMP:20260425T094904
CREATED:20260210T010048Z
LAST-MODIFIED:20260319T053139Z
UID:26766-1787338800-1787342400@www.stpauls.com
SUMMARY:Football Meet the Team
DESCRIPTION:
URL:https://www.stpauls.com/event/football-meet-the-team-2/
LOCATION:Hunter Stadium\, 100 S Jahncke Ave\, Covington\, LA\, United States
END:VEVENT
BEGIN:VEVENT
DTSTART;TZID=America/Chicago:20260824T183000
DTEND;TZID=America/Chicago:20260824T200000
DTSTAMP:20260425T094904
CREATED:20260129T005827Z
LAST-MODIFIED:20260424T152737Z
UID:26644-1787596200-1787601600@www.stpauls.com
SUMMARY:Parent-Teacher Mini-Schedule
DESCRIPTION:6:30-8:00
URL:https://www.stpauls.com/event/parent-teacher-mini-schedule/
END:VEVENT
BEGIN:VEVENT
DTSTART;TZID=America/Chicago:20260828T173000
DTEND;TZID=America/Chicago:20260828T203000
DTSTAMP:20260425T094904
CREATED:20260210T010049Z
LAST-MODIFIED:20260319T053139Z
UID:26767-1787938200-1787949000@www.stpauls.com
SUMMARY:Football Jamboree
DESCRIPTION:vs. Rummel @ 5:30 pm
URL:https://www.stpauls.com/event/football-jamboree/
LOCATION:Saint Paul’s School\, 917 S Jahncke Ave\, Covington\, LA\, United States
END:VEVENT
BEGIN:VEVENT
DTSTART;TZID=America/Chicago:20260828T173000
DTEND;TZID=America/Chicago:20260828T203000
DTSTAMP:20260425T094904
CREATED:20260425T071237Z
LAST-MODIFIED:20260425T071237Z
UID:27155-1787938200-1787949000@www.stpauls.com
SUMMARY:Football Jamboree (H)
DESCRIPTION:vs. Rummel
URL:https://www.stpauls.com/event/football-jamboree-h-2/
LOCATION:Hunter Stadium\, 100 S Jahncke Ave\, Covington\, LA\, United States
END:VEVENT
BEGIN:VEVENT
DTSTART;VALUE=DATE:20260904
DTEND;VALUE=DATE:20260905
DTSTAMP:20260425T094904
CREATED:20260129T005827Z
LAST-MODIFIED:20260424T152737Z
UID:26645-1788480000-1788566399@www.stpauls.com
SUMMARY:NOLasallian Formation Day (Faculty)- no classes for students
DESCRIPTION:
URL:https://www.stpauls.com/event/nolasallian-formation-day-faculty-no-classes-for-students/
END:VEVENT
BEGIN:VEVENT
DTSTART;TZID=America/Chicago:20260904T190000
DTEND;TZID=America/Chicago:20260904T220000
DTSTAMP:20260425T094904
CREATED:20260425T071237Z
LAST-MODIFIED:20260425T071237Z
UID:27157-1788548400-1788559200@www.stpauls.com
SUMMARY:V Football (A)
DESCRIPTION:vs. Destrehan
URL:https://www.stpauls.com/event/v-football-a-4/
LOCATION:Wildcat Stadium\, 1 Wildcat Dr\, Reserve\, LA\, United States
END:VEVENT
BEGIN:VEVENT
DTSTART;VALUE=DATE:20260907
DTEND;VALUE=DATE:20260908
DTSTAMP:20260425T094904
CREATED:20260129T005828Z
LAST-MODIFIED:20260424T152737Z
UID:26646-1788739200-1788825599@www.stpauls.com
SUMMARY:Labor Day- no classes
DESCRIPTION:
URL:https://www.stpauls.com/event/labor-day-no-classes/
END:VEVENT
BEGIN:VEVENT
DTSTART;TZID=America/Chicago:20260911T190000
DTEND;TZID=America/Chicago:20260911T220000
DTSTAMP:20260425T094904
CREATED:20260425T071237Z
LAST-MODIFIED:20260425T071237Z
UID:27158-1789153200-1789164000@www.stpauls.com
SUMMARY:V Football (H)
DESCRIPTION:vs. Brother Martin
URL:https://www.stpauls.com/event/v-football-h-7/
LOCATION:Hunter Stadium\, 100 S Jahncke Ave\, Covington\, LA\, United States
END:VEVENT
BEGIN:VEVENT
DTSTART;VALUE=DATE:20260912
DTEND;VALUE=DATE:20260913
DTSTAMP:20260425T094904
CREATED:20260310T061302Z
LAST-MODIFIED:20260424T152737Z
UID:26943-1789171200-1789257599@www.stpauls.com
SUMMARY:Wolf Cup
DESCRIPTION:Trivia Competition for Jr High Students
URL:https://www.stpauls.com/event/wolf-cup/
LOCATION:Briggs Center; Saint Paul’s School\, 917 S Jahncke Ave\, Covington\, LA\, United States
END:VEVENT
BEGIN:VEVENT
DTSTART;TZID=America/Chicago:20260918T190000
DTEND;TZID=America/Chicago:20260918T220000
DTSTAMP:20260425T094904
CREATED:20260425T071237Z
LAST-MODIFIED:20260425T071237Z
UID:27159-1789758000-1789768800@www.stpauls.com
SUMMARY:V Football (H)
DESCRIPTION:vs. De La Salle
URL:https://www.stpauls.com/event/v-football-h-8/
LOCATION:Hunter Stadium\, 100 S Jahncke Ave\, Covington\, LA\, United States
END:VEVENT
BEGIN:VEVENT
DTSTART;VALUE=DATE:20260919
DTEND;VALUE=DATE:20260920
DTSTAMP:20260425T094904
CREATED:20260413T151235Z
LAST-MODIFIED:20260424T152737Z
UID:27078-1789776000-1789862399@www.stpauls.com
SUMMARY:ACT Testing on Campus
DESCRIPTION:
URL:https://www.stpauls.com/event/act-testing-on-campus-6/
LOCATION:Saint Paul’s School\, 917 S Jahncke Ave\, Covington\, LA\, United States
END:VEVENT
BEGIN:VEVENT
DTSTART;TZID=America/Chicago:20260919T190000
DTEND;TZID=America/Chicago:20260919T210000
DTSTAMP:20260425T094904
CREATED:20260310T061314Z
LAST-MODIFIED:20260424T152737Z
UID:26944-1789844400-1789851600@www.stpauls.com
SUMMARY:Homecoming Dance 8th and 9th (H)
DESCRIPTION:
URL:https://www.stpauls.com/event/homecoming-dance-grades-8-and-9/
LOCATION:Briggs Center; Saint Paul’s School\, 917 S Jahncke Ave\, Covington\, LA\, United States
END:VEVENT
BEGIN:VEVENT
DTSTART;TZID=America/Chicago:20260925T190000
DTEND;TZID=America/Chicago:20260925T220000
DTSTAMP:20260425T094904
CREATED:20260425T071237Z
LAST-MODIFIED:20260425T071237Z
UID:27160-1790362800-1790373600@www.stpauls.com
SUMMARY:V Football (H)
DESCRIPTION:vs. Ponchatoula
URL:https://www.stpauls.com/event/v-football-h-9/
LOCATION:Hunter Stadium\, 100 S Jahncke Ave\, Covington\, LA\, United States
END:VEVENT
BEGIN:VEVENT
DTSTART;TZID=America/Chicago:20260926T200000
DTEND;TZID=America/Chicago:20260926T220000
DTSTAMP:20260425T094904
CREATED:20260310T061315Z
LAST-MODIFIED:20260424T152737Z
UID:26945-1790452800-1790460000@www.stpauls.com
SUMMARY:Homecoming Dance Grades 10-12
DESCRIPTION:
URL:https://www.stpauls.com/event/homecoming-dance-grades-10-12/
LOCATION:Briggs Center; Saint Paul’s School\, 917 S Jahncke Ave\, Covington\, LA\, United States
END:VEVENT
BEGIN:VEVENT
DTSTART;VALUE=DATE:20261002
DTEND;VALUE=DATE:20261003
DTSTAMP:20260425T094904
CREATED:20260129T005828Z
LAST-MODIFIED:20260424T152737Z
UID:26647-1790899200-1790985599@www.stpauls.com
SUMMARY:Fall Break
DESCRIPTION:
URL:https://www.stpauls.com/event/fall-break/
END:VEVENT
BEGIN:VEVENT
DTSTART;TZID=America/Chicago:20261002T190000
DTEND;TZID=America/Chicago:20261002T220000
DTSTAMP:20260425T094904
CREATED:20260425T071237Z
LAST-MODIFIED:20260425T071237Z
UID:27162-1790967600-1790978400@www.stpauls.com
SUMMARY:V Football (A)
DESCRIPTION:
URL:https://www.stpauls.com/event/v-football-a-5/
LOCATION:Tornado Alley\, 3901 River Rd\, Hammond\, LA\, United States
END:VEVENT
BEGIN:VEVENT
DTSTART;VALUE=DATE:20261009
DTEND;VALUE=DATE:20261010
DTSTAMP:20260425T094904
CREATED:20260129T005840Z
LAST-MODIFIED:20260424T152737Z
UID:26649-1791504000-1791590399@www.stpauls.com
SUMMARY:End of First Quarter - 11 am Dismissal
DESCRIPTION:
URL:https://www.stpauls.com/event/end-of-first-quarter/
END:VEVENT
BEGIN:VEVENT
DTSTART;TZID=America/Chicago:20261009T113000
DTEND;TZID=America/Chicago:20261009T130000
DTSTAMP:20260425T094904
CREATED:20260129T005840Z
LAST-MODIFIED:20260424T152737Z
UID:26648-1791545400-1791550800@www.stpauls.com
SUMMARY:Grandparent's Day
DESCRIPTION:
URL:https://www.stpauls.com/event/grandparents-day-2/
END:VEVENT
BEGIN:VEVENT
DTSTART;TZID=America/Chicago:20261009T190000
DTEND;TZID=America/Chicago:20261009T220000
DTSTAMP:20260425T094904
CREATED:20260425T071237Z
LAST-MODIFIED:20260425T071237Z
UID:27163-1791572400-1791583200@www.stpauls.com
SUMMARY:V Football (A)
DESCRIPTION:
URL:https://www.stpauls.com/event/v-football-a-6/
LOCATION:Northshore High School\, 100 Panther Dr\, Slidell\, LA\, United States
END:VEVENT
BEGIN:VEVENT
DTSTART;TZID=America/Chicago:20261016T190000
DTEND;TZID=America/Chicago:20261016T220000
DTSTAMP:20260425T094904
CREATED:20260425T071237Z
LAST-MODIFIED:20260425T071237Z
UID:27164-1792177200-1792188000@www.stpauls.com
SUMMARY:V Football (H)
DESCRIPTION:vs. Fontainebleau
URL:https://www.stpauls.com/event/v-football-h-10/
LOCATION:Hunter Stadium\, 100 S Jahncke Ave\, Covington\, LA\, United States
END:VEVENT
BEGIN:VEVENT
DTSTART;VALUE=DATE:20261017
DTEND;VALUE=DATE:20261018
DTSTAMP:20260425T094904
CREATED:20260413T151236Z
LAST-MODIFIED:20260424T152737Z
UID:27079-1792195200-1792281599@www.stpauls.com
SUMMARY:ACT Testing on Campus
DESCRIPTION:
URL:https://www.stpauls.com/event/act-testing-on-campus-7/
LOCATION:Saint Paul’s School\, 917 S Jahncke Ave\, Covington\, LA\, United States
END:VEVENT
BEGIN:VEVENT
DTSTART;TZID=America/Chicago:20261019T170000
DTEND;TZID=America/Chicago:20261019T190000
DTSTAMP:20260425T094904
CREATED:20260129T005840Z
LAST-MODIFIED:20260424T152737Z
UID:26650-1792429200-1792436400@www.stpauls.com
SUMMARY:Parent-Teacher Conferences
DESCRIPTION:(5-7 PM)
URL:https://www.stpauls.com/event/parent-teacher-conferences-3/
END:VEVENT
BEGIN:VEVENT
DTSTART;TZID=America/Chicago:20261023T190000
DTEND;TZID=America/Chicago:20261023T220000
DTSTAMP:20260425T094904
CREATED:20260425T071237Z
LAST-MODIFIED:20260425T071237Z
UID:27165-1792782000-1792792800@www.stpauls.com
SUMMARY:V Football (A)
DESCRIPTION:
URL:https://www.stpauls.com/event/v-football-a-7/
LOCATION:Mandeville High School\, 101 Skipper Dr\, Mandeville\, LA\, United States
END:VEVENT
BEGIN:VEVENT
DTSTART;VALUE=DATE:20261024
DTEND;VALUE=DATE:20261025
DTSTAMP:20260425T094904
CREATED:20251215T212918Z
LAST-MODIFIED:20260424T152737Z
UID:26179-1792800000-1792886399@www.stpauls.com
SUMMARY:Saint Paul's Gala
DESCRIPTION:Mark your calendars for our 2026 Gala. Details are to be determined\, but it is sure to be a fun and exciting night.
URL:https://www.stpauls.com/event/saint-pauls-gala/
LOCATION:Saint Paul’s School\, 917 S Jahncke Ave\, Covington\, LA\, United States
END:VEVENT
BEGIN:VEVENT
DTSTART;TZID=America/Chicago:20261024T190000
DTEND;TZID=America/Chicago:20261024T223000
DTSTAMP:20260425T094904
CREATED:20260107T212803Z
LAST-MODIFIED:20260424T152738Z
UID:26437-1792868400-1792881000@www.stpauls.com
SUMMARY:Saint Paul's Gala
DESCRIPTION:Patron Party is from 6-7 pm\nEvent – 7-10 :30 pm\nMore details to be announced.
URL:https://www.stpauls.com/event/saint-pauls-gala-2/
LOCATION:Briggs Center; Saint Paul’s School\, 917 S Jahncke Ave\, Covington\, LA\, United States
END:VEVENT
BEGIN:VEVENT
DTSTART;VALUE=DATE:20261029
DTEND;VALUE=DATE:20261030
DTSTAMP:20260425T094904
CREATED:20260129T005840Z
LAST-MODIFIED:20260424T152738Z
UID:26651-1793232000-1793318399@www.stpauls.com
SUMMARY:Prospective Students Open House
DESCRIPTION:
URL:https://www.stpauls.com/event/open-house/
END:VEVENT
END:VCALENDAR