BEGIN:VCALENDAR
VERSION:2.0
PRODID:-//Saint Paul&#039;s School - ECPv6.15.20//NONSGML v1.0//EN
CALSCALE:GREGORIAN
METHOD:PUBLISH
X-WR-CALNAME:Saint Paul&#039;s School
X-ORIGINAL-URL:https://www.stpauls.com
X-WR-CALDESC:Events for Saint Paul&#039;s School
REFRESH-INTERVAL;VALUE=DURATION:PT1H
X-Robots-Tag:noindex
X-PUBLISHED-TTL:PT1H
BEGIN:VTIMEZONE
TZID:America/Chicago
BEGIN:DAYLIGHT
TZOFFSETFROM:-0600
TZOFFSETTO:-0500
TZNAME:CDT
DTSTART:20250309T080000
END:DAYLIGHT
BEGIN:STANDARD
TZOFFSETFROM:-0500
TZOFFSETTO:-0600
TZNAME:CST
DTSTART:20251102T070000
END:STANDARD
BEGIN:DAYLIGHT
TZOFFSETFROM:-0600
TZOFFSETTO:-0500
TZNAME:CDT
DTSTART:20260308T080000
END:DAYLIGHT
BEGIN:STANDARD
TZOFFSETFROM:-0500
TZOFFSETTO:-0600
TZNAME:CST
DTSTART:20261101T070000
END:STANDARD
BEGIN:DAYLIGHT
TZOFFSETFROM:-0600
TZOFFSETTO:-0500
TZNAME:CDT
DTSTART:20270314T080000
END:DAYLIGHT
BEGIN:STANDARD
TZOFFSETFROM:-0500
TZOFFSETTO:-0600
TZNAME:CST
DTSTART:20271107T070000
END:STANDARD
END:VTIMEZONE
BEGIN:VEVENT
DTSTART;VALUE=DATE:20260422
DTEND;VALUE=DATE:20260425
DTSTAMP:20260424T162733
CREATED:20260416T065736Z
LAST-MODIFIED:20260424T065740Z
UID:27103-1776816000-1777075199@www.stpauls.com
SUMMARY:Baseball Regional Playoffs (A)
DESCRIPTION:vs. Rummel\nGame Schedule:\nGame 1: Wednesday\, April 22nd at 6:00 PM\nGame 2: Thursday\, April 23rd at 4:00 PM \nGame 3 (if necessary): Friday\, April 24th at 7:00 PM\nTickets are $10\, or $5 for students with a valid student ID.
URL:https://www.stpauls.com/event/baseball-regional-playoffs-a/
LOCATION:Delgado\, 5200 General Diaz St\, New Orleans\, LA\, United States
END:VEVENT
BEGIN:VEVENT
DTSTART;VALUE=DATE:20260422
DTEND;VALUE=DATE:20260426
DTSTAMP:20260424T162733
CREATED:20260310T061236Z
LAST-MODIFIED:20260424T152736Z
UID:26937-1776816000-1777161599@www.stpauls.com
SUMMARY:Band Spring Concert Series
DESCRIPTION:
URL:https://www.stpauls.com/event/band-spring-concert-series/
LOCATION:Briggs Center; Saint Paul’s School\, 917 S Jahncke Ave\, Covington\, LA\, United States
END:VEVENT
BEGIN:VEVENT
DTSTART;VALUE=DATE:20260424
DTEND;VALUE=DATE:20260425
DTSTAMP:20260424T162733
CREATED:20250911T073031Z
LAST-MODIFIED:20260324T105736Z
UID:25454-1776988800-1777075199@www.stpauls.com
SUMMARY:CDEF – Stuff the Bus Food Drive / Blue & Gold Night
DESCRIPTION:
URL:https://www.stpauls.com/event/cdef-mass-final-of-the-year-blue-gold-night/
LOCATION:LA
END:VEVENT
BEGIN:VEVENT
DTSTART;TZID=America/Chicago:20260424T180000
DTEND;TZID=America/Chicago:20260424T210000
DTSTAMP:20260424T162733
CREATED:20250613T152640Z
LAST-MODIFIED:20260424T152736Z
UID:24453-1777053600-1777064400@www.stpauls.com
SUMMARY:Blue and Gold Night for Prospective Students
DESCRIPTION:Alternative date May 1st
URL:https://www.stpauls.com/event/blue-and-gold-night-for-prospective-students/
LOCATION:Hunter Stadium; Saint Paul’s School\, 917 S Jahncke Ave\, Covington\, LA\, United States
END:VEVENT
BEGIN:VEVENT
DTSTART;TZID=America/Chicago:20260424T193000
DTEND;TZID=America/Chicago:20260424T213000
DTSTAMP:20260424T162733
CREATED:20260414T151234Z
LAST-MODIFIED:20260424T152736Z
UID:27093-1777059000-1777066200@www.stpauls.com
SUMMARY:Spring Musical - The Addams Family
DESCRIPTION:https://ticketpeak.com/go/saintpauls/events
URL:https://www.stpauls.com/event/spring-musical-the-addams-family-5/
LOCATION:Saint Paul’s School\, 917 S Jahncke Ave\, Covington\, LA\, United States
END:VEVENT
END:VCALENDAR