BEGIN:VCALENDAR
VERSION:2.0
PRODID:-//Saint Paul&#039;s School - ECPv6.15.20//NONSGML v1.0//EN
CALSCALE:GREGORIAN
METHOD:PUBLISH
X-WR-CALNAME:Saint Paul&#039;s School
X-ORIGINAL-URL:https://www.stpauls.com
X-WR-CALDESC:Events for Saint Paul&#039;s School
REFRESH-INTERVAL;VALUE=DURATION:PT1H
X-Robots-Tag:noindex
X-PUBLISHED-TTL:PT1H
BEGIN:VTIMEZONE
TZID:America/Chicago
BEGIN:DAYLIGHT
TZOFFSETFROM:-0600
TZOFFSETTO:-0500
TZNAME:CDT
DTSTART:20250309T080000
END:DAYLIGHT
BEGIN:STANDARD
TZOFFSETFROM:-0500
TZOFFSETTO:-0600
TZNAME:CST
DTSTART:20251102T070000
END:STANDARD
BEGIN:DAYLIGHT
TZOFFSETFROM:-0600
TZOFFSETTO:-0500
TZNAME:CDT
DTSTART:20260308T080000
END:DAYLIGHT
BEGIN:STANDARD
TZOFFSETFROM:-0500
TZOFFSETTO:-0600
TZNAME:CST
DTSTART:20261101T070000
END:STANDARD
BEGIN:DAYLIGHT
TZOFFSETFROM:-0600
TZOFFSETTO:-0500
TZNAME:CDT
DTSTART:20270314T080000
END:DAYLIGHT
BEGIN:STANDARD
TZOFFSETFROM:-0500
TZOFFSETTO:-0600
TZNAME:CST
DTSTART:20271107T070000
END:STANDARD
END:VTIMEZONE
BEGIN:VEVENT
DTSTART;VALUE=DATE:20260420
DTEND;VALUE=DATE:20260424
DTSTAMP:20260423T153818
CREATED:20260128T234657Z
LAST-MODIFIED:20260415T064241Z
UID:26634-1776643200-1776988799@www.stpauls.com
SUMMARY:Golf District Tournament (A)
DESCRIPTION:18 hole tournament. Details to be determined
URL:https://www.stpauls.com/event/golf-district-tournament-a/
LOCATION:LA
END:VEVENT
BEGIN:VEVENT
DTSTART;VALUE=DATE:20260422
DTEND;VALUE=DATE:20260424
DTSTAMP:20260423T153818
CREATED:20260310T061236Z
LAST-MODIFIED:20260423T152741Z
UID:26938-1776816000-1776988799@www.stpauls.com
SUMMARY:Art Show
DESCRIPTION:
URL:https://www.stpauls.com/event/art-show/
LOCATION:Briggs Center; Saint Paul’s School\, 917 S Jahncke Ave\, Covington\, LA\, United States
END:VEVENT
BEGIN:VEVENT
DTSTART;VALUE=DATE:20260422
DTEND;VALUE=DATE:20260425
DTSTAMP:20260423T153818
CREATED:20260416T065736Z
LAST-MODIFIED:20260423T065742Z
UID:27103-1776816000-1777075199@www.stpauls.com
SUMMARY:Baseball Regional Playoffs (A)
DESCRIPTION:vs. Rummel\nGame Schedule:\nGame 1: Wednesday\, April 22nd at 6:00 PM\nGame 2: Thursday\, April 23rd at 4:00 PM \nGame 3 (if necessary): Friday\, April 24th at 7:00 PM\nTickets are $10\, or $5 for students with a valid student ID.
URL:https://www.stpauls.com/event/baseball-regional-playoffs-a/
LOCATION:Delgado\, 5200 General Diaz St\, New Orleans\, LA\, United States
END:VEVENT
BEGIN:VEVENT
DTSTART;VALUE=DATE:20260422
DTEND;VALUE=DATE:20260426
DTSTAMP:20260423T153818
CREATED:20260310T061236Z
LAST-MODIFIED:20260423T152741Z
UID:26937-1776816000-1777161599@www.stpauls.com
SUMMARY:Band Spring Concert Series
DESCRIPTION:
URL:https://www.stpauls.com/event/band-spring-concert-series/
LOCATION:Briggs Center; Saint Paul’s School\, 917 S Jahncke Ave\, Covington\, LA\, United States
END:VEVENT
BEGIN:VEVENT
DTSTART;VALUE=DATE:20260423
DTEND;VALUE=DATE:20260424
DTSTAMP:20260423T153818
CREATED:20250911T073031Z
LAST-MODIFIED:20260324T105736Z
UID:25455-1776902400-1776988799@www.stpauls.com
SUMMARY:FGAB – Academic Awards
DESCRIPTION:
URL:https://www.stpauls.com/event/fgab-athletic-awards-2/
LOCATION:LA
END:VEVENT
BEGIN:VEVENT
DTSTART;VALUE=DATE:20260423
DTEND;VALUE=DATE:20260424
DTSTAMP:20260423T153818
CREATED:20251030T164449Z
LAST-MODIFIED:20260423T065742Z
UID:25896-1776902400-1776988799@www.stpauls.com
SUMMARY:District Track and Field Championship (H)
DESCRIPTION:Saint Paul’s Hosting and using all Fields on Campus.
URL:https://www.stpauls.com/event/district-track-and-field-championship-h/
LOCATION:Saint Paul’s School\, 917 S Jahncke Ave\, Covington\, LA\, United States
END:VEVENT
BEGIN:VEVENT
DTSTART;VALUE=DATE:20260423
DTEND;VALUE=DATE:20260424
DTSTAMP:20260423T153818
CREATED:20260416T065736Z
LAST-MODIFIED:20260423T065742Z
UID:27105-1776902400-1776988799@www.stpauls.com
SUMMARY:Golf District Championship (A)
DESCRIPTION:Hosted by Mandeville High\, contact Jason Bordelon\, jason.bordelon@stpsb.org
URL:https://www.stpauls.com/event/golf-district-championship-a/
LOCATION:Beau Chene – Magnolia Course\, 602 N Beau Chene Dr\, Mandeville\, LA\, United States
END:VEVENT
BEGIN:VEVENT
DTSTART;TZID=America/Chicago:20260423T193000
DTEND;TZID=America/Chicago:20260423T213000
DTSTAMP:20260423T153818
CREATED:20260414T151233Z
LAST-MODIFIED:20260423T152741Z
UID:27091-1776972600-1776979800@www.stpauls.com
SUMMARY:Spring Musical - The Addams Family
DESCRIPTION:https://ticketpeak.com/go/saintpauls/events
URL:https://www.stpauls.com/event/spring-musical-the-addams-family-3/
LOCATION:Saint Paul’s School\, 917 S Jahncke Ave\, Covington\, LA\, United States
END:VEVENT
END:VCALENDAR