BEGIN:VCALENDAR
VERSION:2.0
PRODID:-//Saint Paul&#039;s School - ECPv6.15.20//NONSGML v1.0//EN
CALSCALE:GREGORIAN
METHOD:PUBLISH
X-WR-CALNAME:Saint Paul&#039;s School
X-ORIGINAL-URL:https://www.stpauls.com
X-WR-CALDESC:Events for Saint Paul&#039;s School
REFRESH-INTERVAL;VALUE=DURATION:PT1H
X-Robots-Tag:noindex
X-PUBLISHED-TTL:PT1H
BEGIN:VTIMEZONE
TZID:America/Chicago
BEGIN:DAYLIGHT
TZOFFSETFROM:-0600
TZOFFSETTO:-0500
TZNAME:CDT
DTSTART:20250309T080000
END:DAYLIGHT
BEGIN:STANDARD
TZOFFSETFROM:-0500
TZOFFSETTO:-0600
TZNAME:CST
DTSTART:20251102T070000
END:STANDARD
BEGIN:DAYLIGHT
TZOFFSETFROM:-0600
TZOFFSETTO:-0500
TZNAME:CDT
DTSTART:20260308T080000
END:DAYLIGHT
BEGIN:STANDARD
TZOFFSETFROM:-0500
TZOFFSETTO:-0600
TZNAME:CST
DTSTART:20261101T070000
END:STANDARD
BEGIN:DAYLIGHT
TZOFFSETFROM:-0600
TZOFFSETTO:-0500
TZNAME:CDT
DTSTART:20270314T080000
END:DAYLIGHT
BEGIN:STANDARD
TZOFFSETFROM:-0500
TZOFFSETTO:-0600
TZNAME:CST
DTSTART:20271107T070000
END:STANDARD
END:VTIMEZONE
BEGIN:VEVENT
DTSTART;VALUE=DATE:20260417
DTEND;VALUE=DATE:20260418
DTSTAMP:20260421T050219
CREATED:20250911T073019Z
LAST-MODIFIED:20260324T105735Z
UID:25449-1776384000-1776470399@www.stpauls.com
SUMMARY:DEFG – Jubliarian Assembly
DESCRIPTION:
URL:https://www.stpauls.com/event/defg-jubliarian-assembly/
LOCATION:LA
END:VEVENT
BEGIN:VEVENT
DTSTART;VALUE=DATE:20260417
DTEND;VALUE=DATE:20260418
DTSTAMP:20260421T050219
CREATED:20260415T151325Z
LAST-MODIFIED:20260417T152737Z
UID:27099-1776384000-1776470399@www.stpauls.com
SUMMARY:Jazz/Combo Band at Bill Evans Jazz Festival(A)
DESCRIPTION:Members will miss periods F and G
URL:https://www.stpauls.com/event/jazz-combo-band-at-bill-evans-jazz-festivala/
LOCATION:Columbia Theatre for the Performing Arts\, 220 E Thomas St\, Hammond\, LA\, United States
END:VEVENT
BEGIN:VEVENT
DTSTART;TZID=America/Chicago:20260417T193000
DTEND;TZID=America/Chicago:20260417T213000
DTSTAMP:20260421T050219
CREATED:20260414T151233Z
LAST-MODIFIED:20260417T152737Z
UID:27090-1776454200-1776461400@www.stpauls.com
SUMMARY:Spring Musical - The Addams Family
DESCRIPTION:https://ticketpeak.com/go/saintpauls/events
URL:https://www.stpauls.com/event/spring-musical-the-addams-family-2/
LOCATION:Saint Paul’s School\, 917 S Jahncke Ave\, Covington\, LA\, United States
END:VEVENT
END:VCALENDAR