BEGIN:VCALENDAR
VERSION:2.0
PRODID:-//Saint Paul&#039;s School - ECPv6.15.20//NONSGML v1.0//EN
CALSCALE:GREGORIAN
METHOD:PUBLISH
X-WR-CALNAME:Saint Paul&#039;s School
X-ORIGINAL-URL:https://www.stpauls.com
X-WR-CALDESC:Events for Saint Paul&#039;s School
REFRESH-INTERVAL;VALUE=DURATION:PT1H
X-Robots-Tag:noindex
X-PUBLISHED-TTL:PT1H
BEGIN:VTIMEZONE
TZID:America/Chicago
BEGIN:DAYLIGHT
TZOFFSETFROM:-0600
TZOFFSETTO:-0500
TZNAME:CDT
DTSTART:20240310T080000
END:DAYLIGHT
BEGIN:STANDARD
TZOFFSETFROM:-0500
TZOFFSETTO:-0600
TZNAME:CST
DTSTART:20241103T070000
END:STANDARD
BEGIN:DAYLIGHT
TZOFFSETFROM:-0600
TZOFFSETTO:-0500
TZNAME:CDT
DTSTART:20250309T080000
END:DAYLIGHT
BEGIN:STANDARD
TZOFFSETFROM:-0500
TZOFFSETTO:-0600
TZNAME:CST
DTSTART:20251102T070000
END:STANDARD
BEGIN:DAYLIGHT
TZOFFSETFROM:-0600
TZOFFSETTO:-0500
TZNAME:CDT
DTSTART:20260308T080000
END:DAYLIGHT
BEGIN:STANDARD
TZOFFSETFROM:-0500
TZOFFSETTO:-0600
TZNAME:CST
DTSTART:20261101T070000
END:STANDARD
END:VTIMEZONE
BEGIN:VEVENT
DTSTART;VALUE=DATE:20251103
DTEND;VALUE=DATE:20251104
DTSTAMP:20260424T150044
CREATED:20250916T082837Z
LAST-MODIFIED:20251103T164744Z
UID:25516-1762128000-1762214399@www.stpauls.com
SUMMARY:EFGA - Late Start - Faculty Wellness Day
DESCRIPTION:Faculty Wellness Day is in the Briggs Assembly Center
URL:https://www.stpauls.com/event/efga-late-start-faculty-wellness-day-the-society-of-1911-dinner/
LOCATION:Briggs Assembly Center\, 100 S Jahncke Ave\, Covington\, LA\, United States
END:VEVENT
BEGIN:VEVENT
DTSTART;TZID=America/Chicago:20251103T151500
DTEND;TZID=America/Chicago:20251103T161500
DTSTAMP:20260424T150044
CREATED:20251015T142825Z
LAST-MODIFIED:20251103T171304Z
UID:25756-1762182900-1762186500@www.stpauls.com
SUMMARY:8th Basketball Tryouts
DESCRIPTION:
URL:https://www.stpauls.com/event/8th-basketball-tryouts/
LOCATION:New Gym\, 100 S Jahncke Ave\, Covington\, LA\, United States
END:VEVENT
END:VCALENDAR